BEGIN:VCALENDAR
VERSION:2.0
PRODID:-//Campbell River Community Foundation - ECPv6.15.20//NONSGML v1.0//EN
CALSCALE:GREGORIAN
METHOD:PUBLISH
X-WR-CALNAME:Campbell River Community Foundation
X-ORIGINAL-URL:https://crfoundation.ca
X-WR-CALDESC:Events for Campbell River Community Foundation
REFRESH-INTERVAL;VALUE=DURATION:PT1H
X-Robots-Tag:noindex
X-PUBLISHED-TTL:PT1H
BEGIN:VTIMEZONE
TZID:America/Vancouver
BEGIN:DAYLIGHT
TZOFFSETFROM:-0800
TZOFFSETTO:-0700
TZNAME:PDT
DTSTART:20230312T100000
END:DAYLIGHT
BEGIN:STANDARD
TZOFFSETFROM:-0700
TZOFFSETTO:-0800
TZNAME:PST
DTSTART:20231105T090000
END:STANDARD
BEGIN:DAYLIGHT
TZOFFSETFROM:-0800
TZOFFSETTO:-0700
TZNAME:PDT
DTSTART:20240310T100000
END:DAYLIGHT
BEGIN:STANDARD
TZOFFSETFROM:-0700
TZOFFSETTO:-0800
TZNAME:PST
DTSTART:20241103T090000
END:STANDARD
BEGIN:DAYLIGHT
TZOFFSETFROM:-0800
TZOFFSETTO:-0700
TZNAME:PDT
DTSTART:20250309T100000
END:DAYLIGHT
BEGIN:STANDARD
TZOFFSETFROM:-0700
TZOFFSETTO:-0800
TZNAME:PST
DTSTART:20251102T090000
END:STANDARD
END:VTIMEZONE
BEGIN:VEVENT
DTSTART;TZID=America/Vancouver:20240720T083000
DTEND;TZID=America/Vancouver:20240720T190000
DTSTAMP:20260423T180247
CREATED:20240131T171620Z
LAST-MODIFIED:20240417T223910Z
UID:101259-1721464200-1721502000@crfoundation.ca
SUMMARY:Swing For Charity 2024 - PUTTing the fun in FUNdraising!
DESCRIPTION:Registration for players and sponsorship at Swing for Charity 2024 is now open  now ON HOLD!  We are currently following up with those who have reserved teams to secure payment.  If you are interested in playing\, please email marruda@crfoundation to get on the waitlist! \nWe love a good theme party especially when raising money for charity.  This tournament is a great blend of fun and serious with prizes for winning\, and prizes for the “most honest” score!  Players spend the day on the links where they get complimentary experiences thanks to all our incredible sponsors\, and the evening back at Velocity with us for dinner\, drinks\, and more shenanigans.\n\nPlaying in our tournament to helps to support us in achieving our mission of\, “helping people help others!”\n\nGet all the most current sponsorship info here.\nOr if you are ready to register\, do that here. \nThanks to our DIAMOND sponsor Bill Howich Chrysler and to our Gold sponsor\, NTE Discovery Park!
URL:https://crfoundation.ca/event/swing-for-charity-2024/
LOCATION:Campbell River Golf Course\, 700 Peterson Road\, Campbell River\, BC\, Canada
END:VEVENT
END:VCALENDAR