BEGIN:VCALENDAR
VERSION:2.0
PRODID:-//Campbell River Community Foundation - ECPv6.15.20//NONSGML v1.0//EN
CALSCALE:GREGORIAN
METHOD:PUBLISH
X-WR-CALNAME:Campbell River Community Foundation
X-ORIGINAL-URL:https://crfoundation.ca
X-WR-CALDESC:Events for Campbell River Community Foundation
REFRESH-INTERVAL;VALUE=DURATION:PT1H
X-Robots-Tag:noindex
X-PUBLISHED-TTL:PT1H
BEGIN:VTIMEZONE
TZID:America/Vancouver
BEGIN:DAYLIGHT
TZOFFSETFROM:-0800
TZOFFSETTO:-0700
TZNAME:PDT
DTSTART:20230312T100000
END:DAYLIGHT
BEGIN:STANDARD
TZOFFSETFROM:-0700
TZOFFSETTO:-0800
TZNAME:PST
DTSTART:20231105T090000
END:STANDARD
BEGIN:DAYLIGHT
TZOFFSETFROM:-0800
TZOFFSETTO:-0700
TZNAME:PDT
DTSTART:20240310T100000
END:DAYLIGHT
BEGIN:STANDARD
TZOFFSETFROM:-0700
TZOFFSETTO:-0800
TZNAME:PST
DTSTART:20241103T090000
END:STANDARD
BEGIN:DAYLIGHT
TZOFFSETFROM:-0800
TZOFFSETTO:-0700
TZNAME:PDT
DTSTART:20250309T100000
END:DAYLIGHT
BEGIN:STANDARD
TZOFFSETFROM:-0700
TZOFFSETTO:-0800
TZNAME:PST
DTSTART:20251102T090000
END:STANDARD
END:VTIMEZONE
BEGIN:VEVENT
DTSTART;TZID=America/Vancouver:20240914T110000
DTEND;TZID=America/Vancouver:20240914T190000
DTSTAMP:20260423T144743
CREATED:20240822T231740Z
LAST-MODIFIED:20240822T231740Z
UID:101688-1726311600-1726340400@crfoundation.ca
SUMMARY:2nd Annual Vancouver Island Food Truck Festival
DESCRIPTION:Sponsored by RE/MAX Check Realty\, the Vancouver Island Food Truck Festival is a celebration of food\, music\, family\, and community. It takes place on Campbell River’s picturesque foreshore overlooking Discovery Passage.\n\n2024 Food Trucks open from 11 a.m. – 7 p.m.:\n\nThe Steel Pan – Trinbagonian food from Crofton\nOne Cool Cookie – Ice cream sandwiches\, cookies\, and coffee\, from Nanaimo\nPupuseria las Gamelas – El Salvadoran thick\, corn tortillas filled with meats\, cheeses\, or beans\, from Courtenay\nMizu Real Fruit Ice Cream – New Zealand-style ice cream made with real fruit\, from Ladysmith\nKnockananna Grill – Burgers\, mains\, chips\, poutine\, & sides\, from Bowser\nCanada’s Best Mini Donuts – Deep-fried mini donuts sprinkled with cinnamon sugar\, from Courtenay\nThe Dragon Bowl – Delicious and nutritious bowls with rice\, veggies\, nutritional yeast dressing\, and optional tofu or chicken\, from Errington\nCommunity Crepes – Sweet and Savoury crepes\, from Courtenay\nTameet Food Truck – Ethiopian/Eritrean gluten-free cuisine\, from Comox\nRosemary Lane & Co. – Hearty and delicious bowls and falafels\, from Quathet/Powell River\nTKO – Bison burgers and jumbo hot dogs\, from Campbell River\n\nMusic Line Up will be announced soon! Music from 12-7 p.m.\n\nBeverage Garden open from 11 a.m. – 7 p.m.\n\nChildren’s area with games from the City of Campbell River Parks and Rec team all day\n\n 
URL:https://crfoundation.ca/event/2nd-annual-vancouver-island-food-truck-festival/
LOCATION:Robert Ostler Park\, Campbell River\, BC\, Canada
ATTACH;FMTTYPE=image/png:https://crfoundation.ca/wp-content/uploads/2024/08/Cover-Page.png
END:VEVENT
BEGIN:VEVENT
DTSTART;TZID=America/Vancouver:20240919T090000
DTEND;TZID=America/Vancouver:20240919T130000
DTSTAMP:20260423T144743
CREATED:20240624T224300Z
LAST-MODIFIED:20240821T214748Z
UID:101652-1726736400-1726750800@crfoundation.ca
SUMMARY:Intro to Board Governance Best Practices
DESCRIPTION:This Board Governance session is ideally suited to Board Directors\, Board Chairs\, and Executive Directors\, whether you are new to the role or have previous experience.  Note: This session is best suited for organizations that currently have staff.\n\nThis is a 4-hour\, in-person\, highly engaging and fun workshop facilitated by Colin Sauer of the Governance Group. Topics that are covered in this 4-hour in-person training session include:\n\n 	The Governance Game (a good opening that gets everyone involved).\n 	The three important elements for effective and successful boards.\n 	Orientation to the ‘Governing Effectively’ training booklet (125-page Governing Effectively training booklet supplied to each participant as part of your registration).\n 	Review and discussion of the ‘Governing Principles’ for Board Directors.\n 	Overview of the ‘Six Elements of Governing’ (Guidance; Standards; Oversight; Protect; Stakeholder; Sustainability).\n 	Review and discuss the roles and responsibilities of the board\, directors\, the board chair\, and the executive director\n 	Review of the fiduciary duty and conflict of interest guidelines for board directors.\n 	Building a Leadership Partnership between the Board and the Executive Director.\n 	Practical application of policy development\, agenda development\, committee and task force structure\, and terms of reference\n\nThere will be opportunities for questions throughout the session\, however\, Colin will remain after the session for further questions.\n\nTickets available here!\n\nPlease note we are using a new system to support ticket sales.  As we are just publishing this event\, please let us know if you encounter any issues with processing the tickets by emailing marruda@crfoundation.ca! Thank you!
URL:https://crfoundation.ca/event/intro-to-board-governance-best-practices/
LOCATION:Maritime Heritage Centre\, 621 Island Hwy\, Campbell River\, BC\, Canada
ATTACH;FMTTYPE=image/png:https://crfoundation.ca/wp-content/uploads/2024/06/Copy-of-Colin-Sauer-Strat-Plan-workshop-Nov-9.png
END:VEVENT
END:VCALENDAR