BEGIN:VCALENDAR
VERSION:2.0
PRODID:-//Campbell River Community Foundation - ECPv6.15.20//NONSGML v1.0//EN
CALSCALE:GREGORIAN
METHOD:PUBLISH
X-WR-CALNAME:Campbell River Community Foundation
X-ORIGINAL-URL:https://crfoundation.ca
X-WR-CALDESC:Events for Campbell River Community Foundation
REFRESH-INTERVAL;VALUE=DURATION:PT1H
X-Robots-Tag:noindex
X-PUBLISHED-TTL:PT1H
BEGIN:VTIMEZONE
TZID:America/Vancouver
BEGIN:DAYLIGHT
TZOFFSETFROM:-0800
TZOFFSETTO:-0700
TZNAME:PDT
DTSTART:20240310T100000
END:DAYLIGHT
BEGIN:STANDARD
TZOFFSETFROM:-0700
TZOFFSETTO:-0800
TZNAME:PST
DTSTART:20241103T090000
END:STANDARD
BEGIN:DAYLIGHT
TZOFFSETFROM:-0800
TZOFFSETTO:-0700
TZNAME:PDT
DTSTART:20250309T100000
END:DAYLIGHT
BEGIN:STANDARD
TZOFFSETFROM:-0700
TZOFFSETTO:-0800
TZNAME:PST
DTSTART:20251102T090000
END:STANDARD
BEGIN:DAYLIGHT
TZOFFSETFROM:-0800
TZOFFSETTO:-0700
TZNAME:PDT
DTSTART:20260308T100000
END:DAYLIGHT
BEGIN:STANDARD
TZOFFSETFROM:-0700
TZOFFSETTO:-0800
TZNAME:PST
DTSTART:20261101T090000
END:STANDARD
END:VTIMEZONE
BEGIN:VEVENT
DTSTART;TZID=America/Vancouver:20250508T083000
DTEND;TZID=America/Vancouver:20250508T180000
DTSTAMP:20260423T013456
CREATED:20250407T033919Z
LAST-MODIFIED:20250408T005253Z
UID:101905-1746693000-1746727200@crfoundation.ca
SUMMARY:Connect Money Impact
DESCRIPTION:Scale Institute will host CMI in Campbell River on May 8\, 2025 where we will dive deep into topics relevant to social entrepreneurs\, impact investors\, and ecosystem builders\, with sessions focused on creating sustainable revenue streams\, strengthening local networks\, and supporting Indigenous-led investing. When you register\, do so based on which of the three categories you identify with most – Entrepreneur\, Investor or Ecosystem Builder.   During the event\, you will have the option to remain within your corresponding program stream or you can mix-and-match sessions to create your own unique learning adventure.\n\nWe’ll explore how to raise capital for social enterprises\, leverage blended finance for social and financial returns\, and build systems that go beyond capital alone to create long-term impact in uncertain times.\n\nThe day will culminate in a thoughtfully curated reception aimed at helping attendees cultivate meaningful connections. Entertainment and refreshments will be provided.\n\nChoose your own adventure!\n\nWe have an exciting agenda with three different learning streams tailored to social entrepreneurs\, impact investors\, and ecosystem builders. During the event\, you  can mix-and-match sessions to create your own unique learning adventure.\n\nThe day culminates in a thoughtfully curated reception aimed at helping attendees cultivate meaningful connections.\nSocial Entrepreneurs – If you are a social entrepreneur\, including leaders of non-profits\, social enterprises\, and social purpose businesses\, this ticket category is for you.\nEcosystem Builders – If you are an individual\, organization\, or academic entity that nurtures and develops vibrant entrepreneurial and innovation ecosystems\, this ticket category is for you.\nImpact Investors – If you are an impact investor committed to achieving social and environmental goals while generating financial returns through strategic investments\, this ticket category is for you.\n 
URL:https://crfoundation.ca/event/connect-money-impact/
LOCATION:Maritime Heritage Centre\, 621 Island Hwy\, Campbell River\, BC\, Canada
ATTACH;FMTTYPE=image/png:https://crfoundation.ca/wp-content/uploads/2025/04/CMI.png
END:VEVENT
END:VCALENDAR