BEGIN:VCALENDAR
VERSION:2.0
PRODID:-//Campbell River Community Foundation - ECPv6.15.20//NONSGML v1.0//EN
CALSCALE:GREGORIAN
METHOD:PUBLISH
X-ORIGINAL-URL:https://crfoundation.ca
X-WR-CALDESC:Events for Campbell River Community Foundation
REFRESH-INTERVAL;VALUE=DURATION:PT1H
X-Robots-Tag:noindex
X-PUBLISHED-TTL:PT1H
BEGIN:VTIMEZONE
TZID:America/Vancouver
BEGIN:DAYLIGHT
TZOFFSETFROM:-0800
TZOFFSETTO:-0700
TZNAME:PDT
DTSTART:20240310T100000
END:DAYLIGHT
BEGIN:STANDARD
TZOFFSETFROM:-0700
TZOFFSETTO:-0800
TZNAME:PST
DTSTART:20241103T090000
END:STANDARD
BEGIN:DAYLIGHT
TZOFFSETFROM:-0800
TZOFFSETTO:-0700
TZNAME:PDT
DTSTART:20250309T100000
END:DAYLIGHT
BEGIN:STANDARD
TZOFFSETFROM:-0700
TZOFFSETTO:-0800
TZNAME:PST
DTSTART:20251102T090000
END:STANDARD
BEGIN:DAYLIGHT
TZOFFSETFROM:-0800
TZOFFSETTO:-0700
TZNAME:PDT
DTSTART:20260308T100000
END:DAYLIGHT
BEGIN:STANDARD
TZOFFSETFROM:-0700
TZOFFSETTO:-0800
TZNAME:PST
DTSTART:20261101T090000
END:STANDARD
END:VTIMEZONE
BEGIN:VEVENT
DTSTART;VALUE=DATE:20250818
DTEND;VALUE=DATE:20250820
DTSTAMP:20260422T204031
CREATED:20250616T235012Z
LAST-MODIFIED:20250710T182209Z
UID:101976-1755475200-1755647999@crfoundation.ca
SUMMARY:Thriving Non-Profits Campbell River
DESCRIPTION:***Please submit applications by July 20th!***\n\nThe City of Campbell River is bringing the highly regarded Thriving Non-Profits program to Campbell River this summer\, in a partnership with the Campbell River Community Foundation and Scale Collaborative. This program will equip local charities and non-profits with powerful tools to diversify their revenue and build long-term financial resilience.\n\nVital Signs 2024 identified a need for the development of unrestricted funding for non-profits and charities. The City of Campbell River and the Campbell River Community Foundation seek to support organizations to be financially sustainable.\n\nThe Thriving Non-Profits program is an investment in the long-term health and sustainability of local non-profits. The program is designed to equip organizations with a revenue diversification plan that is valuable in any funding environment. This isn’t just another workshop. This is an intensive\, hands-on program designed to help your team build a concrete\, customized plan for revenue diversification and long-term financial sustainability.\n\nFacilitated by the experts at Scale Collaborative\, the program moves beyond traditional grants and fundraising to explore proven strategies in:\n\n 	Social Enterprise\n 	Fee-for-Service Models\n 	Leveraging Assets\n 	Building Win-Win Partnerships\n\nThis comprehensive program\, funded by the City of Campbell River\, will provide three full days of content and three expert coaching sessions at a nominal cost. Typically offered at $3\,900 + GST\, this program is available to Campbell River Non-Profits and Charities for just $100 per person. Each participating organization should have a minimum of 2 and a maximum of 3 representatives registered. This is a powerful opportunity to invest in your organization’s future\, giving you the tools to navigate challenges and thrive.\n\nIncluded with Registration:\n\n 	Organization revenue analysis\n 	Three full days of in-person sessions\n 	Three coaching sessions for each participating organization\n 	Development of your organization’s custom revenue diversification plan\n 	Access to the online Thriving Non-Profits resource library\n 	Access to the online Thriving Non-Profits self-paced program to review content\n\nThe initial sessions will take place on August 18th and 19th in the beautiful student commons at North Island College. A third session will be held in early October. Organizations will book their coaching sessions with their coach once they are assigned.\n\nWould you like your organization to participate? Complete this form by July 20th!\n\n*Note that the form does not process payment. Spaces are limited. Once accepted into the program\, your organization will receive an invoice.\n\nView the Thriving Non-Profits Brochure here
URL:https://crfoundation.ca/event/tnpcr/
ATTACH;FMTTYPE=image/png:https://crfoundation.ca/wp-content/uploads/2025/07/Thriving-Non-Profits-Campbell-River-Bootcamp-Newsletter.png
END:VEVENT
BEGIN:VEVENT
DTSTART;TZID=America/Vancouver:20250823T110000
DTEND;TZID=America/Vancouver:20250823T150000
DTSTAMP:20260422T204031
CREATED:20250704T003831Z
LAST-MODIFIED:20250704T003831Z
UID:102006-1755946800-1755961200@crfoundation.ca
SUMMARY:Neighbourhood Small Grants Program Celebration!
DESCRIPTION:We are celebrating 5 incredible years of the Neighbourhood Small Grants (NSG) program! \n\nWe are excited to showcase many amazing NSG projects with pictures\, stories\, and even live demonstrations!\n\n Some of our inspiring Project Leaders will be there in person to show how the NSG program has strengthened community connections and brought their ideas to life.\n\n MARK YOUR CALENDAR! Saturday\, August 23\, 2025\, from 11:00 a.m. – 3:00 p.m. Spirit Square in Campbell River.\n\n WANT TO SHARE YOUR PROJECT? If you’re a Project Leader and would like to be there in person to talk about your project or provide a live demonstration of your event to share the impact of your project\, please email Gwen at info@crfoundation.ca. We would love to include you!\n\nJOIN US IN THE CELEBRATION! Cold drinks and  snacks to keep everyone refreshed A chance to meet and chat with Project Leaders Hands-On demos of community events A DJ spinning great tunes to keep the energy high!\n Come celebrate with us\, connect with your neighbours\, and get inspired by the creativity and community impact of NSG Projects!
URL:https://crfoundation.ca/event/neighbourhood-small-grants-program-celebration/
LOCATION:Spirit Square\, 1111 Shoppers Row\, Campbell River\, British Columbia\, V9W 2C8\, Canada
ATTACH;FMTTYPE=image/png:https://crfoundation.ca/wp-content/uploads/2025/07/NSG-Celebration-Aug-2025-8.5-x-11-in-Facebook-Cover.png
END:VEVENT
END:VCALENDAR