BEGIN:VCALENDAR
VERSION:2.0
PRODID:-//Campbell River Community Foundation - ECPv6.15.20//NONSGML v1.0//EN
CALSCALE:GREGORIAN
METHOD:PUBLISH
X-WR-CALNAME:Campbell River Community Foundation
X-ORIGINAL-URL:https://crfoundation.ca
X-WR-CALDESC:Events for Campbell River Community Foundation
REFRESH-INTERVAL;VALUE=DURATION:PT1H
X-Robots-Tag:noindex
X-PUBLISHED-TTL:PT1H
BEGIN:VTIMEZONE
TZID:America/Vancouver
BEGIN:DAYLIGHT
TZOFFSETFROM:-0800
TZOFFSETTO:-0700
TZNAME:PDT
DTSTART:20250309T100000
END:DAYLIGHT
BEGIN:STANDARD
TZOFFSETFROM:-0700
TZOFFSETTO:-0800
TZNAME:PST
DTSTART:20251102T090000
END:STANDARD
BEGIN:DAYLIGHT
TZOFFSETFROM:-0800
TZOFFSETTO:-0700
TZNAME:PDT
DTSTART:20260308T100000
END:DAYLIGHT
BEGIN:STANDARD
TZOFFSETFROM:-0700
TZOFFSETTO:-0800
TZNAME:PST
DTSTART:20261101T090000
END:STANDARD
BEGIN:DAYLIGHT
TZOFFSETFROM:-0800
TZOFFSETTO:-0700
TZNAME:PDT
DTSTART:20270314T100000
END:DAYLIGHT
BEGIN:STANDARD
TZOFFSETFROM:-0700
TZOFFSETTO:-0800
TZNAME:PST
DTSTART:20271107T090000
END:STANDARD
END:VTIMEZONE
BEGIN:VEVENT
DTSTART;TZID=America/Vancouver:20260115T000000
DTEND;TZID=America/Vancouver:20260215T235959
DTSTAMP:20260422T190450
CREATED:20260126T025655Z
LAST-MODIFIED:20260126T025658Z
UID:102269-1768435200-1771199999@crfoundation.ca
SUMMARY:2026 Community Grant Applications Open
DESCRIPTION:To be eligible for a Community Grant\, projects must be based within the boundaries of School District 72.  \n\n\n\nPlease note that your organization must be a federally registered charity to apply. Registered charities can also apply as a fiscal host for a non-profit society. ​Eligibility criteria is outlined on our website.  \n\n\n\n​If you have any questions about your organization’s eligibility or require more information\, please feel free to contact us at info@crfoundation.ca. \n\n\n\nEligibility \n\n\n\nThe Campbell River Community Foundation is committed to creating a healthy and vibrant community.  \n\n\n\nWe engage our donors and area non-profits to create opportunities for all citizens to experience a high quality of life. Since 1997\, the Campbell River Community Foundation has awarded over a million dollars in grants to a wide range of registered charities committed to building a better Campbell River.  \n\n\n\nOur Community Grants are made possible through the generosity of community-minded donors. We work closely with our donors to connect them with causes that matter in a variety of areas. Please review the information provided to determine if your organization and initiative meet our criteria for granting. \n\n\n\nYour organization must meet the following criteria in order to be considered for a Community Grant: \n\n\n\n– The organization must be located in the Community Foundation’s service area\, which is within School District #72’s (Campbell River and Area) boundaries.– Provide all information requested according to the Grant Making Guidelines.– Provide a benefit to the citizens of the geographic area served by the Foundation.– The organization receiving the funds must be a CRA Registered Charity and the charity number must be included in the application.  *A registered charity may apply in partnership with a non-profit organization wishing to accomplish a project or initiative that meets project eligibility criteria.– Projects must align with one or more of the United Nations Sustainable Development Goals (SDG’s). For more information about the SDG’s please click HERE.– Applicants must demonstrate fiscal responsibility and effective management. \n\n\n\nCommunity Grants are for projects and programs for: \n\n\n\n– Education\, training\, and capacity building workshops and professional development sessions– Capital acquisitions– Equipment\, furniture and technology– Renovations and building upgrades– Direct services to the community– Benefit a wide audience– Contribute to the betterment of the community– Involve collaboration and partnerships– Build on existing community strengths and needs– Use resources efficiently and effectively \n\n\n\nWe do not fund projects and programs for: \n\n\n\n– Individuals or businesses– Deficits or project expenses incurred prior to the application being approved– Fundraising activities– Endowments– Religious or political activities \n\n\n\nExample of project categories: \n\n\n\n– Arts & Culture– Heritage & Historical– Education & Literacy– Health & Community Wellness– Environmental– Fish Enhancement– Housing Security– Youth & Seniors
URL:https://crfoundation.ca/event/2026-community-grant-applications-open/
CATEGORIES:Grant Application Period
ATTACH;FMTTYPE=image/jpeg:https://crfoundation.ca/wp-content/uploads/2022/02/maxresdefault.jpg
END:VEVENT
END:VCALENDAR